BEGIN:VCALENDAR
VERSION:2.0
PRODID:-//NERC - ECPv6.15.20//NONSGML v1.0//EN
CALSCALE:GREGORIAN
METHOD:PUBLISH
X-WR-CALNAME:NERC
X-ORIGINAL-URL:https://nerc.mghpcc.org
X-WR-CALDESC:Events for NERC
REFRESH-INTERVAL;VALUE=DURATION:PT1H
X-Robots-Tag:noindex
X-PUBLISHED-TTL:PT1H
BEGIN:VTIMEZONE
TZID:America/New_York
BEGIN:DAYLIGHT
TZOFFSETFROM:-0500
TZOFFSETTO:-0400
TZNAME:EDT
DTSTART:20240310T070000
END:DAYLIGHT
BEGIN:STANDARD
TZOFFSETFROM:-0400
TZOFFSETTO:-0500
TZNAME:EST
DTSTART:20241103T060000
END:STANDARD
BEGIN:DAYLIGHT
TZOFFSETFROM:-0500
TZOFFSETTO:-0400
TZNAME:EDT
DTSTART:20250309T070000
END:DAYLIGHT
BEGIN:STANDARD
TZOFFSETFROM:-0400
TZOFFSETTO:-0500
TZNAME:EST
DTSTART:20251102T060000
END:STANDARD
BEGIN:DAYLIGHT
TZOFFSETFROM:-0500
TZOFFSETTO:-0400
TZNAME:EDT
DTSTART:20260308T070000
END:DAYLIGHT
BEGIN:STANDARD
TZOFFSETFROM:-0400
TZOFFSETTO:-0500
TZNAME:EST
DTSTART:20261101T060000
END:STANDARD
BEGIN:DAYLIGHT
TZOFFSETFROM:-0500
TZOFFSETTO:-0400
TZNAME:EDT
DTSTART:20270314T070000
END:DAYLIGHT
BEGIN:STANDARD
TZOFFSETFROM:-0400
TZOFFSETTO:-0500
TZNAME:EST
DTSTART:20271107T060000
END:STANDARD
END:VTIMEZONE
BEGIN:VEVENT
DTSTART;TZID=America/New_York:20250513T080000
DTEND;TZID=America/New_York:20250513T170000
DTSTAMP:20260420T035303
CREATED:20250505T205348Z
LAST-MODIFIED:20250505T205348Z
UID:9570-1747123200-1747155600@nerc.mghpcc.org
SUMMARY:Upcoming NERC system maintenance and upgrade - Tuesday\, May 13\, 2025 8:00 AM - 5:00 PM
DESCRIPTION:Upcoming NERC system maintenance and upgrade - Tuesday\, May 13\, 2025 8:00 AM - 5:00 PM. \nGENERAL MAINTENANCE \n- We will resolve issues related to Shelving VMs to save on resource costs when they are not in use. \n- We will conduct maintenance on the NERC OpenStack RadosGW (Swift/S3) object storage service. \n- Additionally\, we will deploy the H100 GPU configuration on NERC OpenShift. \n- Users will be able to add external hostname (DNS) to their ingress with TLS/SSL certificates from Let's Encrypt as described here. \nNOTICES \n- The OpenStack and OpenShift services will be unavailable during this maintenance. \n- Project allocation requests and change requests for both OpenStack and OpenShift Resources will not be accepted or approved during this time. \n- The estimated time to complete this maintenance is 9 hours. It can take more or less time\, so we urge you to keep an eye on https://nerc.instatus.com/ for real-time updates on progress. \n- Please do subscribe to https://nerc.instatus.com/subscribe/email in order to get the progress updates during this time. \nOur priority is to help make science happen\, so If you or your research team have any questions or need to escalate an issue\, please contact us via email (help@nerc.mghpcc.org) or\, by submitting a new ticket at the NERC's Support Ticketing System.
URL:https://nerc.mghpcc.org/event/nerc-system-upgrade-maintenance-20250513/
ATTACH;FMTTYPE=image/jpeg:https://nerc.mghpcc.org/wp-content/uploads/2024/02/NERC-FI.jpg
END:VEVENT
BEGIN:VEVENT
DTSTART;TZID=America/New_York:20250602T150000
DTEND;TZID=America/New_York:20250604T170000
DTSTAMP:20260420T035303
CREATED:20250505T205952Z
LAST-MODIFIED:20250505T210155Z
UID:9571-1748876400-1749056400@nerc.mghpcc.org
SUMMARY:MGHPCC (Holyoke) Annual Power Shutdown [June 2\, 2025 3:00 PM ET - June 4\, 2025 5:00 PM ET]
DESCRIPTION:Upcoming MGHPCC (Holyoke) Annual Power Shutdown [June 2\, 2025 3:00 PM ET - June 4\, 2025 5:00 PM ET] (multi-day) \nDue to the annual MGHPCC (Holyoke data center) power maintenance as well as other maintenance activities\, the New England Research Cloud (NERC) services will be unavailable from Monday\, June 2nd\, 3 PM until Wednesday\, June 4th\, 5 PM. \nNERC services that will be impacted include: \n\nNERC's OpenStack\nNERC's OpenShift\, which includes the Red Hat OpenShift AI (RHOAI) platform\nNERC supporting shared services ColdFront\, RegApp\, ESI\, and Keycloak\n\nWe have worked to reduce the total outage time this year. Our goal is to resume full services by the end of Wednesday\, June 4th\, at 5 PM or earlier. Please refer to the timeline below for details: \n \nNOTICES \n- This outage affects all services and resources in the MGHPCC/Holyoke data center\, including NERC’s core and shared services\, as well as the underlying compute\, storage\, and networking. \n- The estimated time for power-up and return to full service is 5 PM on Wednesday\, June 4th. We encourage you to monitor the progress at https://nerc.instatus.com/  during this time. \n- Please subscribe to the NERC’s status for any future updates as they happen: https://nerc.instatus.com/subscribe/email \nOur priority is helping make research happen. If you or your research team have any questions or need to escalate an issue\, please do not hesitate to contact us via email (help@nerc.mghpcc.org) or by submitting a service request through the NERC's Support Ticketing System.
URL:https://nerc.mghpcc.org/event/mghpcc-annual-power-shutdown-2025/
ATTACH;FMTTYPE=image/jpeg:https://nerc.mghpcc.org/wp-content/uploads/2024/02/NERC-FI.jpg
END:VEVENT
BEGIN:VEVENT
DTSTART;TZID=America/New_York:20250610T080000
DTEND;TZID=America/New_York:20250610T170000
DTSTAMP:20260420T035303
CREATED:20250530T133954Z
LAST-MODIFIED:20250530T143129Z
UID:9584-1749542400-1749574800@nerc.mghpcc.org
SUMMARY:Red Hat's OpenShift Cluster Platform (OCP) upgrade on NERC from version 4.15 to 4.17
DESCRIPTION:Upcoming Red Hat's OpenShift container platform (OCP) upgrade on NERC from version 4.15 to 4.17 will occur on Tuesday\, June 10\, 2025\, from 8:00 AM – 5:00 PM.\n \nGENERAL MAINTENANCE \nWe are writing to inform you that we plan to upgrade our OpenShift cluster from version 4.15 to 4.17 on Tuesday\, June 10\, 2025. As our current version of OpenShift will reach its End of Life (EOL) in less than three months\, this upgrade is essential and will introduce several new features and improvements to our cluster. \nAdditionally\, we will upgrade and maintain the Red Hat OpenShift AI Platform (RHOAI) to version 2.19\, which provides a fully supported\, collaborative sandbox environment for data scientists\, AI engineers\, and researchers to develop\, train\, and test AI/ML models\, as well as deploy them for use in intelligent applications. \nNOTICES \n- Please keep a backup of your critical data or application running on your project on NERC's OpenShift cluster. \n- The new upgrade to the latest OpenShift version will provide improved performance\, enhanced security\, additional operators and enhanced user interface along with updated Kubernetes version. \n- During the upgrade\, there will be a period of downtime to ensure a seamless transition. We anticipate this downtime to last approximately 9 hours\, and we apologize for any inconvenience this may cause. It can take more or less time\, so we urge you to keep an eye on https://nerc.instatus.com/ and also subscribe to https://nerc.instatus.com/subscribe/email to get the progress updates during this time. \n- Our state-of-the-art OpenShift and RHOAI platforms enable you and your team to deploy containerized applications in a cloud-native environment\, providing a reliable\, isolated\, and scalable solution for your complex research computing and teaching needs. If you haven't used or tested these platforms\, please get started by requesting a new resource allocation to your project using NERC's ColdFront web console or you can get in touch with us to have a quick demo. \nMore information about NERC is available on NERC's website. If you have any questions\, please don't hesitate to reach out to us via email (help@nerc.mghpcc.org) or by submitting a new ticket at the NERC's Support Ticketing System.
URL:https://nerc.mghpcc.org/event/ocp-version-upgrade-20250610/
ATTACH;FMTTYPE=image/jpeg:https://nerc.mghpcc.org/wp-content/uploads/2024/02/NERC-FI.jpg
END:VEVENT
BEGIN:VEVENT
DTSTART;TZID=America/New_York:20250812T080000
DTEND;TZID=America/New_York:20250812T170000
DTSTAMP:20260420T035303
CREATED:20250731T164823Z
LAST-MODIFIED:20250731T164823Z
UID:9590-1754985600-1755018000@nerc.mghpcc.org
SUMMARY:Upcoming NERC system maintenance and upgrade - Tuesday\, August 12\, 2025 8:00 AM - 5:00 PM
DESCRIPTION:Upcoming NERC system maintenance and upgrade - Tuesday\, August 12\, 2025 8:00 AM - 5:00 PM. \nGENERAL MAINTENANCE \n- We will be upgrading our Red Hat OpenShift container platform (OCP) version on NERC to 4.18. \n- As part of the upcoming maintenance\, we’ll be rolling out several key enhancements to Red Hat OpenShift AI (RHOAI). These include a redesigned dashboard layout\, support for both single and multi-model serving\, and distributed training capabilities using CodeFlare and KubeRay. The platform will also support high-performance inference runtimes beyond the currently offered OpenVINO\, such as vLLM. Additional improvements include a GPU pruner for more efficient GPU utilization\, enhanced resource scheduling with Kueue\, and an upgraded version of Kubeflow Pipelines. This update will further strengthen MLOps capabilities with an integrated model registry and catalog to manage the full model lifecycle. \n- We will be upgrading our ColdFront deployment. \nNOTICES \n- The OpenShift and ColdFront services will be unavailable during this maintenance. \n- Please keep a backup of your critical data or application running on your project on NERC’s OpenShift cluster. \n- Project allocation requests and change requests for both OpenStack and OpenShift Resources will not be accepted or approved during this time. \n- The estimated time to complete this maintenance is 9 hours. It can take more or less time\, so we urge you to keep an eye on https://nerc.instatus.com/ for real-time updates on progress. \n- Please do subscribe to https://nerc.instatus.com/subscribe/email in order to get the progress updates during this time. \nOur priority is to help make science happen\, so If you or your research team have any questions or need to escalate an issue\, please contact us via email (help@nerc.mghpcc.org) or\, by submitting a new ticket at the NERC's Support Ticketing System.
URL:https://nerc.mghpcc.org/event/nerc-system-maintenance-20250812/
ATTACH;FMTTYPE=image/jpeg:https://nerc.mghpcc.org/wp-content/uploads/2024/02/NERC-FI.jpg
END:VEVENT
BEGIN:VEVENT
DTSTART;TZID=America/New_York:20250909T080000
DTEND;TZID=America/New_York:20250909T170000
DTSTAMP:20260420T035303
CREATED:20250827T133221Z
LAST-MODIFIED:20250827T133448Z
UID:9596-1757404800-1757437200@nerc.mghpcc.org
SUMMARY:NERC system maintenance and upgrade - Tuesday\, September 9\, 2025 8:00 AM - 5:00 PM
DESCRIPTION:Upcoming NERC system maintenance and upgrade will occur on Tuesday\, September 9\, 2025 8:00 AM - 5:00 PM. \nGENERAL MAINTENANCE \n- We will be upgrading our Red Hat OpenShift container platform (OCP) version on NERC to version 4.19. This release brings important enhancements to improve performance\, security\, and the overall user experience. \n- Unified Console Experience: The Admin and Developer views are now combined into one interface\, reducing context switching and enabling seamless end-to-end workflows. \n- We have also set up and now offer an isolated Academic (EDU) OpenShift cluster designed to fully support academic research and coursework\, providing a stable and dedicated environment for instructors\, principal investigators\, students\, and other users. If you are planning to run courses on NERC in Fall 2025 or Spring 2026\, please contact us so we can coordinate and provide the necessary support. \nNOTICES \n- The OpenShift services will be unavailable during this maintenance. \n- Please keep a backup of your critical data or application running on your project on NERC’s OpenShift cluster. \n- Project allocation requests and change requests for both OpenStack and OpenShift Resources will not be accepted or approved during this time. \n- The estimated time to complete this maintenance is 9 hours. It can take more or less time\, so we urge you to keep an eye on https://nerc.instatus.com/ for real-time updates on progress. \n- Please do subscribe to https://nerc.instatus.com/subscribe/email in order to get the progress updates during this time. \nOur priority is to help make science happen\, so If you or your research team have any questions or need to escalate an issue\, please contact us via email (help@nerc.mghpcc.org) or\, by submitting a new ticket at the NERC's Support Ticketing System.
URL:https://nerc.mghpcc.org/event/nerc-system-maintenance-20250909/
ATTACH;FMTTYPE=image/jpeg:https://nerc.mghpcc.org/wp-content/uploads/2024/02/NERC-FI.jpg
END:VEVENT
BEGIN:VEVENT
DTSTART;TZID=America/New_York:20251014T080000
DTEND;TZID=America/New_York:20251014T170000
DTSTAMP:20260420T035303
CREATED:20251006T131113Z
LAST-MODIFIED:20251201T175442Z
UID:9600-1760428800-1760461200@nerc.mghpcc.org
SUMMARY:NERC system maintenance and upgrade - Tuesday\, October 14\, 2025 8:00 AM - 5:00 PM
DESCRIPTION:Upcoming NERC system maintenance and upgrade will occur on Tuesday\, October 14\, 2025 8:00 AM - 5:00 PM. \nGENERAL MAINTENANCE \n- We will be upgrading our Red Hat OpenShift AI (RHOAI) version of NERC OpenShift Production Cluster to version 2.22. This release brings important enhancements to improve performance\, security\, and the overall user experience. \n- We are upgrading our ColdFront deployment. \nNOTICES \n- The OpenShift AI and ColdFront services will be unavailable during this maintenance. \n- Please keep a backup of your critical data or application running on your project on NERC’s OpenShift cluster. \n- Project allocation requests and change requests for both OpenStack and OpenShift Resources will not be accepted or approved during this time. \n- The estimated time to complete this maintenance is 9 hours. It can take more or less time\, so we urge you to keep an eye on https://nerc.instatus.com/ for real-time updates on progress. \n- Please subscribe to https://nerc.instatus.com/subscribe/email in order to get the progress updates during this time. \nOur priority is to help make science happen\, so If you or your research team have any questions or need to escalate an issue\, please contact us via email (help@nerc.mghpcc.org) or\, by submitting a new ticket at the NERC's Support Ticketing System.
URL:https://nerc.mghpcc.org/event/nerc-system-maintenance-20251014/
ATTACH;FMTTYPE=image/jpeg:https://nerc.mghpcc.org/wp-content/uploads/2024/02/NERC-FI.jpg
END:VEVENT
BEGIN:VEVENT
DTSTART;TZID=America/New_York:20251111T080000
DTEND;TZID=America/New_York:20251111T120000
DTSTAMP:20260420T035303
CREATED:20251029T133934Z
LAST-MODIFIED:20251029T134004Z
UID:9606-1762848000-1762862400@nerc.mghpcc.org
SUMMARY:Upcoming NERC’s ColdFront service upgrade and maintenance Nov 11\, 2025 8:00 AM - 12:00 PM
DESCRIPTION:NERC's ColdFront upgrade and maintenance will occur on Tuesday Nov 11\, 2025 from 8:00 AM - 12:00 PM. \nGENERAL MAINTENANCE \n- We are upgrading NERC’s ColdFront deployment to the latest version of ColdFront. \nNOTICES \n- This upgrade will cause some outages to the NERC’s ColdFront service. \n- The estimated time to complete this maintenance is 4 hours. It can take more or less time\, so we urge you to keep an eye on https://nerc.instatus.com/ for real-time updates on progress. \n- Please subscribe to https://nerc.instatus.com/subscribe/email in order to get the progress updates during this time. \nOur priority is to help make science happen\, so If you or your research team have any questions or need to escalate an issue\, please contact us via email (help@nerc.mghpcc.org) or\, by submitting a new ticket at the NERC's Support Ticketing System.
URL:https://nerc.mghpcc.org/event/coldfront-maintenance-20251111/
ATTACH;FMTTYPE=image/jpeg:https://nerc.mghpcc.org/wp-content/uploads/2024/02/NERC-FI.jpg
END:VEVENT
BEGIN:VEVENT
DTSTART;TZID=America/New_York:20251209T080000
DTEND;TZID=America/New_York:20251209T120000
DTSTAMP:20260420T035303
CREATED:20251201T175352Z
LAST-MODIFIED:20251201T175507Z
UID:9613-1765267200-1765281600@nerc.mghpcc.org
SUMMARY:NERC system maintenance and upgrade - Tuesday\, Dec 9\, 2025 8:00 AM - 12:00 PM
DESCRIPTION:Upcoming NERC system maintenance and upgrade will occur on Tuesday\, December 9\, 2025 8:00 AM - 12:00 PM. \nGENERAL MAINTENANCE \n- We are upgrading NERC’s ColdFront deployment to the latest version\, which will allow users to view a Daily Invoice display in ColdFront and receive threshold budget notification emails. \n- We will also validate all current project allocations to ensure each namespace meets the minimum LimitRange requirements. \nNOTICES \n- This upgrade will cause some outages to the NERC’s ColdFront service. \n- The estimated time to complete this maintenance is 4 hours. It can take more or less time\, so we urge you to keep an eye on https://nerc.instatus.com/ for real-time updates on progress. \n- Please subscribe to https://nerc.instatus.com/subscribe/email in order to get the progress updates during this time. \nOur priority is to help make science happen\, so If you or your research team have any questions or need to escalate an issue\, please contact us via email (help@nerc.mghpcc.org) or\, by submitting a new ticket at the NERC's Support Ticketing System.
URL:https://nerc.mghpcc.org/event/nerc-system-maintenance-20251209/
ATTACH;FMTTYPE=image/jpeg:https://nerc.mghpcc.org/wp-content/uploads/2024/02/NERC-FI.jpg
END:VEVENT
BEGIN:VEVENT
DTSTART;TZID=America/New_York:20260113T080000
DTEND;TZID=America/New_York:20260113T120000
DTSTAMP:20260420T035303
CREATED:20260112T143853Z
LAST-MODIFIED:20260112T143853Z
UID:9627-1768291200-1768305600@nerc.mghpcc.org
SUMMARY:NERC system maintenance and upgrade - Tuesday\, Jan 13\, 2026 8:00 AM - 12:00 PM
DESCRIPTION:Upcoming NERC system maintenance and upgrade will occur on Tuesday\, January 13\, 2026 8:00 AM - 12:00 PM. \nGENERAL MAINTENANCE \n- We are upgrading NERC’s ColdFront Plugin to the latest version. \n- We will be adding 8 H100 GPUs on the NERC OpenShift Production cluster. \n- We will be adding more NESE Storage Pools to increase the current storage quota. \nNOTICES \n- This upgrade will cause some outages to the NERC’s ColdFront service. \n- The estimated time to complete this maintenance is 4 hours. It can take more or less time\, so we urge you to keep an eye on https://nerc.instatus.com/ for real-time updates on progress. \n- Please subscribe to https://nerc.instatus.com/subscribe/email in order to get the progress updates during this time. \nOur priority is to help make science happen\, so If you or your research team have any questions or need to escalate an issue\, please contact us via email (help@nerc.mghpcc.org) or\, by submitting a new ticket at the NERC's Support Ticketing System.
URL:https://nerc.mghpcc.org/event/nerc-system-maintenance-20260113/
ATTACH;FMTTYPE=image/jpeg:https://nerc.mghpcc.org/wp-content/uploads/2024/02/NERC-FI.jpg
END:VEVENT
BEGIN:VEVENT
DTSTART;TZID=America/New_York:20260210T080000
DTEND;TZID=America/New_York:20260210T170000
DTSTAMP:20260420T035303
CREATED:20260128T141744Z
LAST-MODIFIED:20260128T141744Z
UID:9632-1770710400-1770742800@nerc.mghpcc.org
SUMMARY:Upcoming NERC system maintenance and upgrade - Tuesday\, February 10\, 2026 8:00 AM - 5:00 PM
DESCRIPTION:Upcoming NERC system maintenance and upgrade will occur on Tuesday\, February 10\, 2026 8:00 AM - 5:00 PM. \nGENERAL MAINTENANCE \n- We will be upgrading the Openshift Container Platform (OCP) on the NERC OpenShift Production Cluster to version 4.20. \n- We will be upgrading Red Hat OpenShift AI (RHOAI) on the NERC OpenShift Production Cluster to version 2.25. This upgrade will provide new features\, bug fixes\, and improved support for AI/ML workflows. \n- We are upgrading our ColdFront deployment to support quota management across different storage types. \nNOTICES \n- The Production Cluster’s OpenShift\, OpenShift AI and ColdFront services will be unavailable during this maintenance. \n- Please keep a backup of your critical data or application running on your project on NERC’s OpenShift cluster. \n- Project allocation requests and change requests for both OpenStack and OpenShift Resources will not be accepted or approved during this time. \n- The estimated time to complete this maintenance is 9 hours. It can take more or less time\, so we urge you to keep an eye on https://nerc.instatus.com/ for real-time updates on progress. \n- Please subscribe to https://nerc.instatus.com/subscribe/email in order to get the progress updates during this time. \nOur priority is to help make science happen\, so If you or your research team have any questions or need to escalate an issue\, please contact us via email (help@nerc.mghpcc.org) or\, by submitting a new ticket at the NERC's Support Ticketing System.
URL:https://nerc.mghpcc.org/event/nerc-system-maintenance-20260210/
ATTACH;FMTTYPE=image/jpeg:https://nerc.mghpcc.org/wp-content/uploads/2024/02/NERC-FI.jpg
END:VEVENT
BEGIN:VEVENT
DTSTART;TZID=America/New_York:20260310T080000
DTEND;TZID=America/New_York:20260310T170000
DTSTAMP:20260420T035303
CREATED:20260225T144142Z
LAST-MODIFIED:20260225T144142Z
UID:9641-1773129600-1773162000@nerc.mghpcc.org
SUMMARY:Upcoming NERC system maintenance and upgrade - Tuesday\, March 10\, 2026 8:00 AM - 5:00 PM
DESCRIPTION:Upcoming NERC system maintenance and upgrade will occur on Tuesday\, March 10\, 2026\, 8:00 AM - 5:00 PM. \nGENERAL MAINTENANCE \n- We will be upgrading the Openshift Container Platform (OCP) on the NERC OpenShift Production Cluster to version 4.20. \n- We are upgrading our ColdFront deployment to support quota management across different storage types. \n- We will be adding additional H100 to NERC OpenShift Production Cluster for general use. \nNOTICES \n- The Production Cluster’s OpenShift\, OpenShift AI and ColdFront services will be unavailable during this maintenance. \n- Please keep a backup of your critical data or application running on your project on NERC’s OpenShift cluster. \n- Project allocation requests and change requests for both OpenStack and OpenShift Resources will not be accepted or approved during this time. \n- The estimated time to complete this maintenance is 9 hours. It can take more or less time\, so we urge you to keep an eye on https://nerc.instatus.com/ for real-time updates on progress. \n- Please subscribe to https://nerc.instatus.com/subscribe/email in order to get the progress updates during this time. \nOur priority is to help make science happen\, so If you or your research team have any questions or need to escalate an issue\, please contact us via email (help@nerc.mghpcc.org) or\, by submitting a new ticket at the NERC's Support Ticketing System.
URL:https://nerc.mghpcc.org/event/nerc-system-maintenance-20260310/
ATTACH;FMTTYPE=image/jpeg:https://nerc.mghpcc.org/wp-content/uploads/2024/02/NERC-FI.jpg
END:VEVENT
BEGIN:VEVENT
DTSTART;TZID=America/New_York:20260414T080000
DTEND;TZID=America/New_York:20260414T170000
DTSTAMP:20260420T035303
CREATED:20260401T175644Z
LAST-MODIFIED:20260401T175644Z
UID:9649-1776153600-1776186000@nerc.mghpcc.org
SUMMARY:Upcoming NERC system maintenance and upgrade - Tuesday\, April 14\, 2026 8:00 AM - 5:00 PM
DESCRIPTION:Upcoming NERC system maintenance and upgrade will occur on Tuesday\, April 14\, 2026\, 8:00 AM - 5:00 PM. \nGENERAL MAINTENANCE \n- We will be upgrading the Openshift Container Platform (OCP) on the NERC OpenShift Production Cluster to version 4.21. \n- We will be adding support for Remote Direct Memory Access (RDMA) to our production cluster. \n- We are upgrading our ColdFront deployment. \nNOTICES \n- The Production Cluster’s OpenShift\, OpenShift AI and ColdFront services will be unavailable during this maintenance. \n- Please keep a backup of your critical data or application running on your project on NERC’s OpenShift cluster. \n- Project allocation requests and change requests for both OpenStack and OpenShift Resources will not be accepted or approved during this time.\n\n- The estimated time to complete this maintenance is 9 hours. It can take more or less time\, so we urge you to keep an eye on https://nerc.instatus.com/ for real-time updates on progress. \n- Please subscribe to https://nerc.instatus.com/subscribe/email in order to get the progress updates during this time. \nOur priority is to help make science happen\, so If you or your research team have any questions or need to escalate an issue\, please contact us via email (help@nerc.mghpcc.org) or\, by submitting a new ticket at the NERC's Support Ticketing System.
URL:https://nerc.mghpcc.org/event/nerc-system-maintenance-20260414/
ATTACH;FMTTYPE=image/jpeg:https://nerc.mghpcc.org/wp-content/uploads/2024/02/NERC-FI.jpg
END:VEVENT
END:VCALENDAR