BEGIN:VCALENDAR
VERSION:2.0
PRODID:-//NERC - ECPv6.15.20//NONSGML v1.0//EN
CALSCALE:GREGORIAN
METHOD:PUBLISH
X-ORIGINAL-URL:https://nerc.mghpcc.org
X-WR-CALDESC:Events for NERC
REFRESH-INTERVAL;VALUE=DURATION:PT1H
X-Robots-Tag:noindex
X-PUBLISHED-TTL:PT1H
BEGIN:VTIMEZONE
TZID:America/New_York
BEGIN:DAYLIGHT
TZOFFSETFROM:-0500
TZOFFSETTO:-0400
TZNAME:EDT
DTSTART:20240310T070000
END:DAYLIGHT
BEGIN:STANDARD
TZOFFSETFROM:-0400
TZOFFSETTO:-0500
TZNAME:EST
DTSTART:20241103T060000
END:STANDARD
BEGIN:DAYLIGHT
TZOFFSETFROM:-0500
TZOFFSETTO:-0400
TZNAME:EDT
DTSTART:20250309T070000
END:DAYLIGHT
BEGIN:STANDARD
TZOFFSETFROM:-0400
TZOFFSETTO:-0500
TZNAME:EST
DTSTART:20251102T060000
END:STANDARD
BEGIN:DAYLIGHT
TZOFFSETFROM:-0500
TZOFFSETTO:-0400
TZNAME:EDT
DTSTART:20260308T070000
END:DAYLIGHT
BEGIN:STANDARD
TZOFFSETFROM:-0400
TZOFFSETTO:-0500
TZNAME:EST
DTSTART:20261101T060000
END:STANDARD
END:VTIMEZONE
BEGIN:VEVENT
DTSTART;TZID=America/New_York:20250211T090000
DTEND;TZID=America/New_York:20250211T110000
DTSTAMP:20260419T232121
CREATED:20250130T164429Z
LAST-MODIFIED:20250130T164429Z
UID:9541-1739264400-1739271600@nerc.mghpcc.org
SUMMARY:Upcoming NERC system maintenance and upgrade - OpenStack and ColdFront - Tuesday February 11\, 2025 9:00 AM - 11:00 AM
DESCRIPTION:Upcoming NERC system maintenance and upgrade will occur on Tuesday February 11\, 2025 9:00 AM - 11:00 AM. \nGENERAL MAINTENANCE \n- We will be upgrading our ColdFront deployment. Additionally\, we will be performing maintenance on the NERC OpenStack RadosGW (Swift/S3) object storage service. \n- Other than OpenStack projects which use Swift/S3 this maintenance should not affect any other projects using the NERC. \nNOTICES \n- The OpenStack RadosGW (Swift/S3) object storage service will be unavailable during this maintenance. \n- Project allocation requests and change requests will not be accepted or approved during this time. \n- The maintenance and upgrade are expected to be brief. We encourage you to monitor https://nerc.instatus.com/ for real-time updates on progress. \n- Please do subscribe to https://nerc.instatus.com/subscribe/email in order to get the progress updates during this time. \nOur priority is to help make science happen\, so If you or your research team have any questions or need to escalate an issue\, please contact us via email (help@nerc.mghpcc.org) or\, by submitting a new ticket at the NERC's Support Ticketing System.
URL:https://nerc.mghpcc.org/event/nerc-system-upgrade-maintenance-20250211/
ATTACH;FMTTYPE=image/jpeg:https://nerc.mghpcc.org/wp-content/uploads/2024/02/NERC-FI.jpg
END:VEVENT
END:VCALENDAR