BEGIN:VCALENDAR
VERSION:2.0
PRODID:-//NERC - ECPv6.15.20//NONSGML v1.0//EN
CALSCALE:GREGORIAN
METHOD:PUBLISH
X-WR-CALNAME:NERC
X-ORIGINAL-URL:https://nerc.mghpcc.org
X-WR-CALDESC:Events for NERC
REFRESH-INTERVAL;VALUE=DURATION:PT1H
X-Robots-Tag:noindex
X-PUBLISHED-TTL:PT1H
BEGIN:VTIMEZONE
TZID:America/New_York
BEGIN:DAYLIGHT
TZOFFSETFROM:-0500
TZOFFSETTO:-0400
TZNAME:EDT
DTSTART:20240310T070000
END:DAYLIGHT
BEGIN:STANDARD
TZOFFSETFROM:-0400
TZOFFSETTO:-0500
TZNAME:EST
DTSTART:20241103T060000
END:STANDARD
BEGIN:DAYLIGHT
TZOFFSETFROM:-0500
TZOFFSETTO:-0400
TZNAME:EDT
DTSTART:20250309T070000
END:DAYLIGHT
BEGIN:STANDARD
TZOFFSETFROM:-0400
TZOFFSETTO:-0500
TZNAME:EST
DTSTART:20251102T060000
END:STANDARD
BEGIN:DAYLIGHT
TZOFFSETFROM:-0500
TZOFFSETTO:-0400
TZNAME:EDT
DTSTART:20260308T070000
END:DAYLIGHT
BEGIN:STANDARD
TZOFFSETFROM:-0400
TZOFFSETTO:-0500
TZNAME:EST
DTSTART:20261101T060000
END:STANDARD
END:VTIMEZONE
BEGIN:VEVENT
DTSTART;TZID=America/New_York:20250114T090000
DTEND;TZID=America/New_York:20250115T090000
DTSTAMP:20260420T011600
CREATED:20241216T190453Z
LAST-MODIFIED:20241219T195610Z
UID:9530-1736845200-1736931600@nerc.mghpcc.org
SUMMARY:Upcoming NERC Network Equipment and Switch Maintenance Scheduled for [Tuesday January 14\, 2025 9 AM - Wednesday January 15\, 2025 9 AM]
DESCRIPTION:Upcoming NERC Network Equipment and Switch Maintenance is scheduled from Tuesday\, January 14\, 2025\, at 9:00 AM to Wednesday\, January 15\, 2025\, at 9:00 AM. \nGENERAL MAINTENANCE \n- We plan to perform changes to the management and configuration of our network infrastructure. This will take the majority of the maintenance period. These updates are part of our ongoing efforts to improve network performance\, reliability\, and scalability for all users. \n- During the maintenance window\, we will also update the NERC OpenShift deployment to include patches for the NVIDIA A100 and V100 GPU Accelerator profiles. \nNOTICES \n- NERC OpenStack’s Horizon dashboard and other OpenStack API services will be inaccessible. \n- During this process\, Access to the NERC OpenShift cluster and NERC Red Hat OpenShift AI (RHOAI) via the web console and other OpenShift CLI tools will be unavailable. \n- Although we do not anticipate that ESI-provided systems will be affected\, except for those connected to the NERC network\, there is a slight risk due to the tasks we will be performing in their general vicinity. \n- All services will be available once the OpenShift Deployment portion of this maintenance is completed\, and we will post updates to the status page. \n- Please be aware that during this maintenance\, project change requests for both OpenStack and OpenShift Resources will not be accepted or approved. \n- The estimated time to complete this maintenance is 24 hours. It can take more or less time\, so we urge you to keep an eye on https://nerc.instatus.com/ to receive updated progress. \n- Please subscribe to https://nerc.instatus.com/subscribe/email to receive progress updates. \n- Please let us know if you encounter any issues after the maintenance is completed. \nOur priority is to help make science happen\, if you or your research team have any questions or need to escalate an issue\, please contact us via email (help@nerc.mghpcc.org) or\, by submitting a new ticket at the NERC's Support Ticketing System.
URL:https://nerc.mghpcc.org/event/network-equipment-switch-maintenance-20250114/
ATTACH;FMTTYPE=image/jpeg:https://nerc.mghpcc.org/wp-content/uploads/2024/02/NERC-FI.jpg
END:VEVENT
END:VCALENDAR